Workbook

Sheet Summary
A1: SUBMITTAL SUMMARY
A2: Concept project · fictional sample data · template by Mohammad Gulab
A4: Status | B4: Count | D4: KPI | E4: Value
A5: Approved | B5: =COUNTIF('Submittal Register'!$J$7:$J$24,A5) | D5: First-time approval rate | E5: =(B5+B6)/B10
A6: Approved as noted | B6: =COUNTIF('Submittal Register'!$J$7:$J$24,A6) | D6: Avg. turnaround (days) | E6: =ROUND(AVERAGEIFS('Submittal Register'!$K$7:$K$24,'Submittal Register'!$H$7:$H$24,"<>"),1)
A7: Revise & resubmit | B7: =COUNTIF('Submittal Register'!$J$7:$J$24,A7) | D7: Returned late | E7: =COUNTIF('Submittal Register'!$L$7:$L$24,"LATE")
A8: Rejected | B8: =COUNTIF('Submittal Register'!$J$7:$J$24,A8) | D8: Still under review | E8: =B9
A9: Under review | B9: =COUNTIF('Submittal Register'!$J$7:$J$24,A9)
A10: Total | B10: =SUM(B5:B9)

Sheet Submittal Register
A1: MATERIAL SUBMITTAL REGISTER — Waterfront Residences (Concept)
A2: Concept project · fictional sample data · template by Mohammad Gulab · Review period (days) in cell B4
A4: Review period: | B4: 14 | C4: days | E4: Data date: | F4: 46320 | H4: Codes: A Approved · B Approved as noted · C Revise & resubmit · D Rejected
A6: Submittal No. | B6: Rev | C6: Spec Section | D6: Material / Item | E6: Supplier | F6: Submitted On | G6: Review Due | H6: Returned On | I6: Review Code | J6: Status | K6: Turnaround (days) | L6: Late? | M6: Remarks
A7: SUB-03-001 | B7: 0 | C7: 03 30 00 | D7: Ready-mix concrete C40/50 mix design | E7: Supplier B | F7: 46258 | G7: =F7+$B$4 | H7: 46267 | I7: A | J7: =IF(I7="","Under review",CHOOSE(MATCH(I7,{"A","B","C","D"},0),"Approved","Approved as noted","Revise & resubmit","Rejected")) | K7: =IF(H7="",$F$4-F7,H7-F7) | L7: =IF(K7>$B$4,"LATE","")
A8: SUB-03-002 | B8: 0 | C8: 03 41 00 | D8: Precast hollow-core slabs 200 mm | E8: Supplier B | F8: 46261 | G8: =F8+$B$4 | H8: 46268 | I8: B | J8: =IF(I8="","Under review",CHOOSE(MATCH(I8,{"A","B","C","D"},0),"Approved","Approved as noted","Revise & resubmit","Rejected")) | K8: =IF(H8="",$F$4-F8,H8-F8) | L8: =IF(K8>$B$4,"LATE","")
A9: SUB-03-003 | B9: 0 | C9: 03 41 00 | D9: Precast stair flights & landings | E9: Supplier B | F9: 46264 | G9: =F9+$B$4 | H9: 46272 | I9: B | J9: =IF(I9="","Under review",CHOOSE(MATCH(I9,{"A","B","C","D"},0),"Approved","Approved as noted","Revise & resubmit","Rejected")) | K9: =IF(H9="",$F$4-F9,H9-F9) | L9: =IF(K9>$B$4,"LATE","")
A10: SUB-03-004 | B10: 0 | C10: 03 20 00 | D10: Reinforcement steel B500B | E10: Supplier B | F10: 46267 | G10: =F10+$B$4 | H10: 46283 | I10: A | J10: =IF(I10="","Under review",CHOOSE(MATCH(I10,{"A","B","C","D"},0),"Approved","Approved as noted","Revise & resubmit","Rejected")) | K10: =IF(H10="",$F$4-F10,H10-F10) | L10: =IF(K10>$B$4,"LATE","")
A11: SUB-07-005 | B11: 0 | C11: 07 13 00 | D11: Bituminous waterproofing membrane | E11: Supplier D | F11: 46270 | G11: =F11+$B$4 | H11: 46276 | I11: C | J11: =IF(I11="","Under review",CHOOSE(MATCH(I11,{"A","B","C","D"},0),"Approved","Approved as noted","Revise & resubmit","Rejected")) | K11: =IF(H11="",$F$4-F11,H11-F11) | L11: =IF(K11>$B$4,"LATE","")
A12: SUB-07-006 | B12: 0 | C12: 07 21 00 | D12: Rigid insulation boards XPS 50 mm | E12: Supplier B | F12: 46273 | G12: =F12+$B$4 | H12: 46288 | I12: B | J12: =IF(I12="","Under review",CHOOSE(MATCH(I12,{"A","B","C","D"},0),"Approved","Approved as noted","Revise & resubmit","Rejected")) | K12: =IF(H12="",$F$4-F12,H12-F12) | L12: =IF(K12>$B$4,"LATE","")
A13: SUB-08-007 | B13: 0 | C13: 08 11 13 | D13: Steel fire-rated doors 60 min | E13: Supplier C | F13: 46276 | G13: =F13+$B$4 | H13: 46286 | I13: A | J13: =IF(I13="","Under review",CHOOSE(MATCH(I13,{"A","B","C","D"},0),"Approved","Approved as noted","Revise & resubmit","Rejected")) | K13: =IF(H13="",$F$4-F13,H13-F13) | L13: =IF(K13>$B$4,"LATE","")
A14: SUB-08-008 | B14: 1 | C14: 08 51 13 | D14: Aluminium windows, thermal break | E14: Supplier B | F14: 46279 | G14: =F14+$B$4 | H14: 46285 | I14: D | J14: =IF(I14="","Under review",CHOOSE(MATCH(I14,{"A","B","C","D"},0),"Approved","Approved as noted","Revise & resubmit","Rejected")) | K14: =IF(H14="",$F$4-F14,H14-F14) | L14: =IF(K14>$B$4,"LATE","")
A15: SUB-09-009 | B15: 0 | C15: 09 30 13 | D15: Porcelain floor tiles 600×600 | E15: Supplier E | F15: 46282 | G15: =F15+$B$4 | H15: 46294 | I15: B | J15: =IF(I15="","Under review",CHOOSE(MATCH(I15,{"A","B","C","D"},0),"Approved","Approved as noted","Revise & resubmit","Rejected")) | K15: =IF(H15="",$F$4-F15,H15-F15) | L15: =IF(K15>$B$4,"LATE","")
A16: SUB-09-010 | B16: 0 | C16: 09 91 23 | D16: Interior emulsion paint system | E16: Supplier E | F16: 46285 | G16: =F16+$B$4 | H16: 46296 | I16: A | J16: =IF(I16="","Under review",CHOOSE(MATCH(I16,{"A","B","C","D"},0),"Approved","Approved as noted","Revise & resubmit","Rejected")) | K16: =IF(H16="",$F$4-F16,H16-F16) | L16: =IF(K16>$B$4,"LATE","")
A17: SUB-22-011 | B17: 0 | C17: 22 11 16 | D17: PPR water supply pipes & fittings | E17: Supplier C | F17: 46288 | G17: =F17+$B$4 | H17: 46303 | I17: B | J17: =IF(I17="","Under review",CHOOSE(MATCH(I17,{"A","B","C","D"},0),"Approved","Approved as noted","Revise & resubmit","Rejected")) | K17: =IF(H17="",$F$4-F17,H17-F17) | L17: =IF(K17>$B$4,"LATE","")
A18: SUB-23-012 | B18: 0 | C18: 23 31 13 | D18: GI ductwork & accessories | E18: Supplier E | F18: 46291 | G18: =F18+$B$4 | H18: 46299 | I18: A | J18: =IF(I18="","Under review",CHOOSE(MATCH(I18,{"A","B","C","D"},0),"Approved","Approved as noted","Revise & resubmit","Rejected")) | K18: =IF(H18="",$F$4-F18,H18-F18) | L18: =IF(K18>$B$4,"LATE","")
... A21: SUB-21-015 | B21: 0 | C21: 21 13 13 | D21: Fire sprinkler heads | E21: Supplier D | F21: 46300 | G21: =F21+$B$4 | H21: 46312 | I21: A | J21: =IF(I21="","Under review",CHOOSE(MATCH(I21,{"A","B","C","D"},0),"Approved","Approved as noted","Revise & resubmit","Rejected")) | K21: =IF(H21="",$F$4-F21,H21-F21) | L21: =IF(K21>$B$4,"LATE","")
A22: SUB-32-016 | B22: 0 | C22: 32 12 16 | D22: Asphalt wearing course | E22: Supplier D | F22: 46303 | G22: =F22+$B$4 | J22: =IF(I22="","Under review",CHOOSE(MATCH(I22,{"A","B","C","D"},0),"Approved","Approved as noted","Revise & resubmit","Rejected")) | K22: =IF(H22="",$F$4-F22,H22-F22) | L22: =IF(K22>$B$4,"LATE","")
A23: SUB-05-017 | B23: 0 | C23: 05 50 00 | D23: Embedded steel plates & anchors | E23: Supplier A | F23: 46306 | G23: =F23+$B$4 | H23: 46318 | I23: B | J23: =IF(I23="","Under review",CHOOSE(MATCH(I23,{"A","B","C","D"},0),"Approved","Approved as noted","Revise & resubmit","Rejected")) | K23: =IF(H23="",$F$4-F23,H23-F23) | L23: =IF(K23>$B$4,"LATE","")
A24: SUB-07-018 | B24: 0 | C24: 07 92 00 | D24: Joint sealants, façade | E24: Supplier D | F24: 46309 | G24: =F24+$B$4 | J24: =IF(I24="","Under review",CHOOSE(MATCH(I24,{"A","B","C","D"},0),"Approved","Approved as noted","Revise & resubmit","Rejected")) | K24: =IF(H24="",$F$4-F24,H24-F24) | L24: =IF(K24>$B$4,"LATE","")
