Workbook

Sheet Summary
A1: PROJECT DOCUMENT SUMMARY
A2: Al Noor Residential Tower · status date 15-Oct-26 · all figures are live formulas from the register
A4: Total documents | B4: =COUNTA('Document Register'!A5:A26) -> 22
A5: Approved (A + B) | B5: =COUNTIF('Document Register'!F5:F26,"Approved")+COUNTIF('Document Register'!F5:F26,"Approved with Comments") -> 11
A6: Awaiting response | B6: =COUNTIF('Document Register'!F5:F26,"Submitted")+COUNTIF('Document Register'!F5:F26,"Under Review") -> 7
A7: Overdue | B7: =SUMPRODUCT(('Document Register'!H5:H26<>"")*('Document Register'!I5:I26="")*('Document Register'!H5:H26<DATE(2026,10,15))) -> 6
A8: Approval rate | B8: =IFERROR(B5/(B5+COUNTIF('Document Register'!F5:F26,"Rejected")),0) -> 0.78571429
A10: Documents by Status | D10: Documents by Discipline
A11: Status | B11: Count | D11: Discipline | E11: Total | F11: Approved | G11: Under Review | H11: Rejected
A12: Draft | B12: =COUNTIF('Document Register'!$F$5:$F$26,A12) -> 1 | D12: Architectural | E12: =COUNTIF('Document Register'!$C$5:$C$26,D12) -> 5 | F12: =COUNTIFS('Document Register'!$C$5:$C$26,D12,'Document Register'!$F$5:$F$26,"Approved")+COUNTIFS('Document Register'!$C$5:$C$26,D12,'Document Register'!$F$5:$F$26,"Approved with Comments") -> 1 | G12: =COUNTIFS('Document Register'!$C$5:$C$26,D12,'Document Register'!$F$5:$F$26,"Under Review")+COUNTIFS('Document Register'!$C$5:$C$26,D12,'Document Register'!$F$5:$F$26,"Submitted") -> 2 | H12: =COUNTIFS('Document Register'!$C$5:$C$26,D12,'Document Register'!$F$5:$F$26,"Rejected") -> 2
A13: Submitted | B13: =COUNTIF('Document Register'!$F$5:$F$26,A13) -> 3 | D13: Structural | E13: =COUNTIF('Document Register'!$C$5:$C$26,D13) -> 5 | F13: =COUNTIFS('Document Register'!$C$5:$C$26,D13,'Document Register'!$F$5:$F$26,"Approved")+COUNTIFS('Document Register'!$C$5:$C$26,D13,'Document Register'!$F$5:$F$26,"Approved with Comments") -> 5 | G13: =COUNTIFS('Document Register'!$C$5:$C$26,D13,'Document Register'!$F$5:$F$26,"Under Review")+COUNTIFS('Document Register'!$C$5:$C$26,D13,'Document Register'!$F$5:$F$26,"Submitted") -> 0 | H13: =COUNTIFS('Document Register'!$C$5:$C$26,D13,'Document Register'!$F$5:$F$26,"Rejected") -> 0
A14: Under Review | B14: =COUNTIF('Document Register'!$F$5:$F$26,A14) -> 4 | D14: MEP | E14: =COUNTIF('Document Register'!$C$5:$C$26,D14) -> 5 | F14: =COUNTIFS('Document Register'!$C$5:$C$26,D14,'Document Register'!$F$5:$F$26,"Approved")+COUNTIFS('Document Register'!$C$5:$C$26,D14,'Document Register'!$F$5:$F$26,"Approved with Comments") -> 3 | G14: =COUNTIFS('Document Register'!$C$5:$C$26,D14,'Document Register'!$F$5:$F$26,"Under Review")+COUNTIFS('Document Register'!$C$5:$C$26,D14,'Document Register'!$F$5:$F$26,"Submitted") -> 2 | H14: =COUNTIFS('Document Register'!$C$5:$C$26,D14,'Document Register'!$F$5:$F$26,"Rejected") -> 0
A15: Approved | B15: =COUNTIF('Document Register'!$F$5:$F$26,A15) -> 9 | D15: Civil | E15: =COUNTIF('Document Register'!$C$5:$C$26,D15) -> 3 | F15: =COUNTIFS('Document Register'!$C$5:$C$26,D15,'Document Register'!$F$5:$F$26,"Approved")+COUNTIFS('Document Register'!$C$5:$C$26,D15,'Document Register'!$F$5:$F$26,"Approved with Comments") -> 0 | G15: =COUNTIFS('Document Register'!$C$5:$C$26,D15,'Document Register'!$F$5:$F$26,"Under Review")+COUNTIFS('Document Register'!$C$5:$C$26,D15,'Document Register'!$F$5:$F$26,"Submitted") -> 1 | H15: =COUNTIFS('Document Register'!$C$5:$C$26,D15,'Document Register'!$F$5:$F$26,"Rejected") -> 1
A16: Approved with Comments | B16: =COUNTIF('Document Register'!$F$5:$F$26,A16) -> 2 | D16: HSE | E16: =COUNTIF('Document Register'!$C$5:$C$26,D16) -> 2 | F16: =COUNTIFS('Document Register'!$C$5:$C$26,D16,'Document Register'!$F$5:$F$26,"Approved")+COUNTIFS('Document Register'!$C$5:$C$26,D16,'Document Register'!$F$5:$F$26,"Approved with Comments") -> 1 | G16: =COUNTIFS('Document Register'!$C$5:$C$26,D16,'Document Register'!$F$5:$F$26,"Under Review")+COUNTIFS('Document Register'!$C$5:$C$26,D16,'Document Register'!$F$5:$F$26,"Submitted") -> 1 | H16: =COUNTIFS('Document Register'!$C$5:$C$26,D16,'Document Register'!$F$5:$F$26,"Rejected") -> 0
A17: Rejected | B17: =COUNTIF('Document Register'!$F$5:$F$26,A17) -> 3 | D17: QA/QC | E17: =COUNTIF('Document Register'!$C$5:$C$26,D17) -> 2 | F17: =COUNTIFS('Document Register'!$C$5:$C$26,D17,'Document Register'!$F$5:$F$26,"Approved")+COUNTIFS('Document Register'!$C$5:$C$26,D17,'Document Register'!$F$5:$F$26,"Approved with Comments") -> 1 | G17: =COUNTIFS('Document Register'!$C$5:$C$26,D17,'Document Register'!$F$5:$F$26,"Under Review")+COUNTIFS('Document Register'!$C$5:$C$26,D17,'Document Register'!$F$5:$F$26,"Submitted") -> 1 | H17: =COUNTIFS('Document Register'!$C$5:$C$26,D17,'Document Register'!$F$5:$F$26,"Rejected") -> 0
A18: Superseded | B18: =COUNTIF('Document Register'!$F$5:$F$26,A18) -> 0 | D18: Total | E18: =SUM(E12:E17) -> 22 | F18: =SUM(F12:F17) -> 11 | G18: =SUM(G12:G17) -> 7 | H18: =SUM(H12:H17) -> 3
A19: Total | B19: =SUM(B12:B18) -> 22 | D19: Under Review column includes Submitted.

Sheet Document Register
A1: AL NOOR RESIDENTIAL TOWER — DOCUMENT REGISTER
A2: Project No. ANR-2026 · Client: Al Noor Developments (fictional sample data) · Status and review codes use dropdown lists
A4: Doc No. | B4: Title | C4: Discipline | D4: Type | E4: Rev | F4: Status | G4: Submitted | H4: Due | I4: Returned | J4: Review Code | K4: Days Open | L4: Transmittal
A5: ANR-AR-DWG-001 | B5: Ground Floor Plan | C5: Architectural | D5: Drawing | E5: 0 | F5: Submitted | G5: 46297 | H5: 46311 | J5: - | K5: =IF(G5="","",IF(I5="",DATE(2026,10,15)-G5,I5-G5)) -> 13 | L5: TR-009
A6: ANR-AR-DWG-002 | B6: Typical Floor Plan L2-L12 | C6: Architectural | D6: Drawing | E6: 0 | F6: Rejected | G6: 46278 | H6: 46292 | I6: 46287 | J6: D - Rejected | K6: =IF(G6="","",IF(I6="",DATE(2026,10,15)-G6,I6-G6)) -> 9 | L6: TR-007
A7: ANR-AR-DWG-003 | B7: North Elevation | C7: Architectural | D7: Drawing | E7: 2 | F7: Approved | G7: 46260 | H7: 46274 | I7: 46266 | J7: A - Approved | K7: =IF(G7="","",IF(I7="",DATE(2026,10,15)-G7,I7-G7)) -> 6 | L7: TR-004
A8: ANR-AR-DWG-004 | B8: Wall Sections | C8: Architectural | D8: Drawing | E8: 0 | F8: Under Review | G8: 46239 | H8: 46253 | J8: - | K8: =IF(G8="","",IF(I8="",DATE(2026,10,15)-G8,I8-G8)) -> 71 | L8: TR-001
A9: ANR-AR-DWG-005 | B9: Door & Window Schedule | C9: Architectural | D9: Drawing | E9: 0 | F9: Rejected | G9: 46263 | H9: 46277 | I9: 46274 | J9: D - Rejected | K9: =IF(G9="","",IF(I9="",DATE(2026,10,15)-G9,I9-G9)) -> 11 | L9: TR-004
A10: ANR-CV-DWG-016 | B10: Site Grading Plan | C10: Civil | D10: Drawing | E10: 1 | F10: Rejected | G10: 46286 | H10: 46300 | I10: 46301 | J10: D - Rejected | K10: =IF(G10="","",IF(I10="",DATE(2026,10,15)-G10,I10-G10)) -> 15 | L10: TR-008
A11: ANR-CV-DWG-017 | B11: Storm Water Drainage | C11: Civil | D11: Drawing | E11: 1 | F11: Draft | J11: - | K11: =IF(G11="","",IF(I11="",DATE(2026,10,15)-G11,I11-G11))
A12: ANR-CV-DWG-018 | B12: External Road Layout | C12: Civil | D12: Drawing | E12: 0 | F12: Under Review | G12: 46287 | H12: 46301 | J12: - | K12: =IF(G12="","",IF(I12="",DATE(2026,10,15)-G12,I12-G12)) -> 23 | L12: TR-008
A13: ANR-HS-MS-019 | B13: Site Safety Plan | C13: HSE | D13: Method Statement | E13: 1 | F13: Approved | G13: 46273 | H13: 46287 | I13: 46287 | J13: A - Approved | K13: =IF(G13="","",IF(I13="",DATE(2026,10,15)-G13,I13-G13)) -> 14 | L13: TR-005
A14: ANR-HS-MS-020 | B14: Lifting Plan - Tower Crane | C14: HSE | D14: Method Statement | E14: 1 | F14: Submitted | G14: 46283 | H14: 46297 | J14: - | K14: =IF(G14="","",IF(I14="",DATE(2026,10,15)-G14,I14-G14)) -> 27 | L14: TR-008
A15: ANR-ME-DWG-011 | B15: Chilled Water Riser Diagram | C15: MEP | D15: Drawing | E15: 1 | F15: Approved | G15: 46273 | H15: 46287 | I15: 46287 | J15: A - Approved | K15: =IF(G15="","",IF(I15="",DATE(2026,10,15)-G15,I15-G15)) -> 14 | L15: TR-006
A16: ANR-ME-DWG-012 | B16: Electrical Single Line Diagram | C16: MEP | D16: Drawing | E16: 2 | F16: Approved with Comments | G16: 46243 | H16: 46257 | I16: 46259 | J16: B - Approved as Noted | K16: =IF(G16="","",IF(I16="",DATE(2026,10,15)-G16,I16-G16)) -> 16 | L16: TR-001
A17: ANR-ME-DWG-013 | B17: Fire Alarm Layout | C17: MEP | D17: Drawing | E17: 0 | F17: Under Review | G17: 46260 | H17: 46274 | J17: - | K17: =IF(G17="","",IF(I17="",DATE(2026,10,15)-G17,I17-G17)) -> 50 | L17: TR-004
A18: ANR-ME-DWG-014 | B18: Plumbing Riser | C18: MEP | D18: Drawing | E18: 0 | F18: Approved | G18: 46273 | H18: 46287 | I18: 46288 | J18: A - Approved | K18: =IF(G18="","",IF(I18="",DATE(2026,10,15)-G18,I18-G18)) -> 15 | L18: TR-006
A19: ANR-ME-DWG-015 | B19: HVAC Duct Layout L1 | C19: MEP | D19: Drawing | E19: 2 | F19: Under Review | G19: 46268 | H19: 46282 | J19: - | K19: =IF(G19="","",IF(I19="",DATE(2026,10,15)-G19,I19-G19)) -> 42 | L19: TR-005
A20: ANR-QC-MS-021 | B20: Concrete Pour Inspection Plan | C20: QA/QC | D20: Method Statement | E20: 2 | F20: Approved | G20: 46244 | H20: 46258 | I20: 46256 | J20: A - Approved | K20: =IF(G20="","",IF(I20="",DATE(2026,10,15)-G20,I20-G20)) -> 12 | L20: TR-001
A21: ANR-QC-RPT-022 | B21: Rebar Testing Report | C21: QA/QC | D21: Report | E21: 1 | F21: Submitted | G21: 46246 | H21: 46260 | J21: - | K21: =IF(G21="","",IF(I21="",DATE(2026,10,15)-G21,I21-G21)) -> 64 | L21: TR-002
A22: ANR-ST-DWG-006 | B22: Foundation Layout | C22: Structural | D22: Drawing | E22: 1 | F22: Approved | G22: 46272 | H22: 46286 | I22: 46278 | J22: A - Approved | K22: =IF(G22="","",IF(I22="",DATE(2026,10,15)-G22,I22-G22)) -> 6 | L22: TR-005
A23: ANR-ST-DWG-007 | B23: Raft Reinforcement Details | C23: Structural | D23: Drawing | E23: 0 | F23: Approved | G23: 46297 | H23: 46311 | I23: 46309 | J23: A - Approved | K23: =IF(G23="","",IF(I23="",DATE(2026,10,15)-G23,I23-G23)) -> 12 | L23: TR-009
A24: ANR-ST-DWG-008 | B24: Column Schedule | C24: Structural | D24: Drawing | E24: 2 | F24: Approved | G24: 46273 | H24: 46287 | I24: 46285 | J24: A - Approved | K24: =IF(G24="","",IF(I24="",DATE(2026,10,15)-G24,I24-G24)) -> 12 | L24: TR-006
A25: ANR-ST-DWG-009 | B25: Slab Post-Tension Layout | C25: Structural | D25: Drawing | E25: 0 | F25: Approved | G25: 46251 | H25: 46265 | I25: 46265 | J25: A - Approved | K25: =IF(G25="","",IF(I25="",DATE(2026,10,15)-G25,I25-G25)) -> 14 | L25: TR-003
A26: ANR-ST-DWG-010 | B26: Shear Wall Details | C26: Structural | D26: Drawing | E26: 1 | F26: Approved with Comments | G26: 46255 | H26: 46269 | I26: 46264 | J26: B - Approved as Noted | K26: =IF(G26="","",IF(I26="",DATE(2026,10,15)-G26,I26-G26)) -> 9 | L26: TR-003
A28: Red due date = overdue (no response by the 15-Oct-26 status date). Days Open counts to the status date until a response is returned.

Sheet Transmittals
A1: TRANSMITTAL LOG
A3: Transmittal No. | B3: Date | C3: To | D3: Purpose | E3: No. of Docs | F3: Status
A4: TR-001 | B4: =_xlfn.MINIFS('Document Register'!$G$5:$G$26,'Document Register'!$L$5:$L$26,A4) -> 46239 | C4: Client - Al Noor Developments | D4: For Approval | E4: =COUNTIF('Document Register'!$L$5:$L$26,A4) -> 3 | F4: =IF(COUNTIFS('Document Register'!$L$5:$L$26,A4,'Document Register'!$I$5:$I$26,"")=0,"Closed","Open") -> Open
A5: TR-002 | B5: =_xlfn.MINIFS('Document Register'!$G$5:$G$26,'Document Register'!$L$5:$L$26,A5) -> 46246 | C5: Consultant - Gulf Design Partners | D5: For Information | E5: =COUNTIF('Document Register'!$L$5:$L$26,A5) -> 1 | F5: =IF(COUNTIFS('Document Register'!$L$5:$L$26,A5,'Document Register'!$I$5:$I$26,"")=0,"Closed","Open") -> Open
A6: TR-003 | B6: =_xlfn.MINIFS('Document Register'!$G$5:$G$26,'Document Register'!$L$5:$L$26,A6) -> 46251 | C6: Client - Al Noor Developments | D6: For Review | E6: =COUNTIF('Document Register'!$L$5:$L$26,A6) -> 2 | F6: =IF(COUNTIFS('Document Register'!$L$5:$L$26,A6,'Document Register'!$I$5:$I$26,"")=0,"Closed","Open") -> Closed
A7: TR-004 | B7: =_xlfn.MINIFS('Document Register'!$G$5:$G$26,'Document Register'!$L$5:$L$26,A7) -> 46260 | C7: Client - Al Noor Developments | D7: For Information | E7: =COUNTIF('Document Register'!$L$5:$L$26,A7) -> 3 | F7: =IF(COUNTIFS('Document Register'!$L$5:$L$26,A7,'Document Register'!$I$5:$I$26,"")=0,"Closed","Open") -> Open
A8: TR-005 | B8: =_xlfn.MINIFS('Document Register'!$G$5:$G$26,'Document Register'!$L$5:$L$26,A8) -> 46268 | C8: Client - Al Noor Developments | D8: For Information | E8: =COUNTIF('Document Register'!$L$5:$L$26,A8) -> 3 | F8: =IF(COUNTIFS('Document Register'!$L$5:$L$26,A8,'Document Register'!$I$5:$I$26,"")=0,"Closed","Open") -> Open
A9: TR-006 | B9: =_xlfn.MINIFS('Document Register'!$G$5:$G$26,'Document Register'!$L$5:$L$26,A9) -> 46273 | C9: Client - Al Noor Developments | D9: For Approval | E9: =COUNTIF('Document Register'!$L$5:$L$26,A9) -> 3 | F9: =IF(COUNTIFS('Document Register'!$L$5:$L$26,A9,'Document Register'!$I$5:$I$26,"")=0,"Closed","Open") -> Closed
A10: TR-007 | B10: =_xlfn.MINIFS('Document Register'!$G$5:$G$26,'Document Register'!$L$5:$L$26,A10) -> 46278 | C10: Consultant - Gulf Design Partners | D10: For Review | E10: =COUNTIF('Document Register'!$L$5:$L$26,A10) -> 1 | F10: =IF(COUNTIFS('Document Register'!$L$5:$L$26,A10,'Document Register'!$I$5:$I$26,"")=0,"Closed","Open") -> Closed
A11: TR-008 | B11: =_xlfn.MINIFS('Document Register'!$G$5:$G$26,'Document Register'!$L$5:$L$26,A11) -> 46283 | C11: Client - Al Noor Developments | D11: For Information | E11: =COUNTIF('Document Register'!$L$5:$L$26,A11) -> 3 | F11: =IF(COUNTIFS('Document Register'!$L$5:$L$26,A11,'Document Register'!$I$5:$I$26,"")=0,"Closed","Open") -> Open
A12: TR-009 | B12: =_xlfn.MINIFS('Document Register'!$G$5:$G$26,'Document Register'!$L$5:$L$26,A12) -> 46297 | C12: Consultant - Gulf Design Partners | D12: For Approval | E12: =COUNTIF('Document Register'!$L$5:$L$26,A12) -> 2 | F12: =IF(COUNTIFS('Document Register'!$L$5:$L$26,A12,'Document Register'!$I$5:$I$26,"")=0,"Closed","Open") -> Open

Sheet Lists
A1: Status | B1: Discipline | C1: Doc Type | D1: Review Code
A2: Draft | B2: Architectural | C2: Drawing | D2: A - Approved
A3: Submitted | B3: Structural | C3: Method Statement | D3: B - Approved as Noted
A4: Under Review | B4: MEP | C4: Material Submittal | D4: C - Revise & Resubmit
A5: Approved | B5: Civil | C5: Report | D5: D - Rejected
A6: Approved with Comments | B6: HSE | C6: Calculation | D6: -
A7: Rejected | B7: QA/QC | C7: Specification
A8: Superseded
